BEGIN:VCALENDAR
VERSION:2.0
PRODID:-//eventon.com NONSGML v1.0//EN
CALSCALE:GREGORIAN
METHOD:PUBLISH
BEGIN:VEVENT
UID:69e8a24f9c0d2
DTSTAMP:20260422T102623Z
DTSTART:20250702
DTEND:20250703
LOCATION:
SUMMARY:Dale Fest - Choir
DESCRIPTION:\nhttps://neerigenbrookps.wa.edu.au/events/dale-fest-choir/
URL:https://neerigenbrookps.wa.edu.au/events/dale-fest-choir/
END:VEVENT
END:VCALENDAR