BEGIN:VCALENDAR
VERSION:2.0
PRODID:-//eventon.com NONSGML v1.0//EN
CALSCALE:GREGORIAN
METHOD:PUBLISH
BEGIN:VEVENT
UID:69e4ea297022a
DTSTAMP:20260419T144353Z
DTSTART:20241106
DTEND:20241107
LOCATION:
SUMMARY:Crazy Hair Day - Story Dogs
DESCRIPTION:\nhttps://neerigenbrookps.wa.edu.au/events/crazy-hair-day-story
 -dogs/
URL:https://neerigenbrookps.wa.edu.au/events/crazy-hair-day-story-dogs/
END:VEVENT
END:VCALENDAR