BEGIN:VCALENDAR
VERSION:2.0
PRODID:-//eventon.com NONSGML v1.0//EN
CALSCALE:GREGORIAN
METHOD:PUBLISH
BEGIN:VEVENT
UID:69e61d7a2371f
DTSTAMP:20260420T123506Z
DTSTART:20230717
DTEND:20230718
LOCATION:
SUMMARY:School Returns for Term 3
DESCRIPTION:\nhttps://neerigenbrookps.wa.edu.au/events/school-returns-for-t
 erm-3/
URL:https://neerigenbrookps.wa.edu.au/events/school-returns-for-term-3/
END:VEVENT
END:VCALENDAR