BEGIN:VCALENDAR
VERSION:2.0
PRODID:-//eventon.com NONSGML v1.0//EN
CALSCALE:GREGORIAN
METHOD:PUBLISH
BEGIN:VEVENT
UID:69e8a530a4f42
DTSTAMP:20260422T103840Z
DTSTART:20230607
DTEND:20230608
LOCATION:
SUMMARY:Bully Zero Incursion
DESCRIPTION:\nhttps://neerigenbrookps.wa.edu.au/events/bully-zero-incursion
 /
URL:https://neerigenbrookps.wa.edu.au/events/bully-zero-incursion/
END:VEVENT
END:VCALENDAR